BEGIN:VCALENDAR
VERSION:2.0
PRODID:-//Pride Ticket - ECPv4.9.14.1//NONSGML v1.0//EN
CALSCALE:GREGORIAN
METHOD:PUBLISH
X-WR-CALNAME:Pride Ticket
X-ORIGINAL-URL:https://www.prideticket.com
X-WR-CALDESC:Events for Pride Ticket
BEGIN:VTIMEZONE
TZID:Europe/Vienna
BEGIN:DAYLIGHT
TZOFFSETFROM:+0100
TZOFFSETTO:+0200
TZNAME:CEST
DTSTART:20200329T010000
END:DAYLIGHT
BEGIN:STANDARD
TZOFFSETFROM:+0200
TZOFFSETTO:+0100
TZNAME:CET
DTSTART:20201025T010000
END:STANDARD
END:VTIMEZONE
BEGIN:VEVENT
DTSTART;TZID=Europe/Vienna:20200308T150000
DTEND;TZID=Europe/Vienna:20200315T180000
DTSTAMP:20260421T162840
CREATED:20191025T142007Z
LAST-MODIFIED:20191025T142007Z
UID:5854-1583679600-1584295200@www.prideticket.com
SUMMARY:Swis Gay Ski 2020
DESCRIPTION:🌈⛷🏂Book now 2020 at the same price than 2019\n-> www.gayski.ch\n– Book now your participation in SWISS GAY SKI 2020 -Lenzerheide amongst friends\n– Buche schon heute deine Teilnahme an der GaySki Lenzerheide 2020 \n
URL:https://www.prideticket.com/e/swis-gay-ski-2020/
CATEGORIES:Winter Sport
ATTACH;FMTTYPE=image/jpeg:https://www.prideticket.com/app/uploads/2019/10/55560335_1925921607517168_6369500267347443712_o.jpg
END:VEVENT
BEGIN:VEVENT
DTSTART;VALUE=DATE:20200311
DTEND;VALUE=DATE:20200316
DTSTAMP:20260421T162840
CREATED:20200102T153235Z
LAST-MODIFIED:20200102T153235Z
UID:7425-1583884800-1584316799@www.prideticket.com
SUMMARY:Starkbierfest meeting (MLC STARKBIERFEST 2020)
DESCRIPTION:At no other time of the year fasting is better and hornier. With the beginning of the 5th season in Munich\, the MLC invites all friends to its traditional starkbier-fest.\nFor five days\, the Münchener Löwen present the established programme-mix of folksy togetherness and hot event. \nThe opening is the “Meet & Greet” at SUB e.V. \nOn Thursday\, at the „Oberanger” a cosy and entertaining event with dinner takes place. This will be topped by the election of the new Bavarian Mr. Leather – the representative of the Bavarian leather and fetish community. \nAfter a cultural programme on Friday afternoon\, two hot nights at the UnderGround are on the agenda: Piss\, Fist and Fuck on Friday\, as well as the „Löwennacht” on Saturday. Those nights are a real feast for the eyes for all fetish friends. You can’t miss them. \nOn Sunday\, the Starkbierfest-weekend ends with one or more mugs of Maximator\, the strong malty beer of Augustiner brewery\, proper Bavarian brass music and lots of guys in traditional Bavarian leather shorts. \nAll dates:\nWed 11.3.2020 7:30 pm // Meet & Greet @ SUB\nThu 12.3.2020 Admission: 6:30 pm Start: 7:00 pm // Election of the BMrL 2020 @ Oberanger Theater\nFri 13.3.2020 8:00 pm // Piss\, Fist & Fuck @ UnderGround\nSat 14.3.2020 3:00 – 4:00 pm // Fetish flea market with coffee and cake @ UnderGround\nSat 14.3.2020 8:00 pm // Löwennacht @ UnderGround\nSun 15.3.2020 10:00 am // GaySunday@ Augustiner Keller \nTickets from 01.01.2020\nTicket price GaySunday 20\, – EUR + 1\, – EUR VVK fee = 21\, – EUR Total // still plus fees for the payment processing (Eventjet system usage)\nTicket price BMrL 35\, – EUR + 1\, – EUR Advance charge = 36\, – EUR Total // plus fees for payment processing (Eventjet system usage) \n
URL:https://www.prideticket.com/e/starkbierfest-meeting-mlc-starkbierfest-2020/
CATEGORIES:Fetish,Fun,Leather
ATTACH;FMTTYPE=image/jpeg:https://www.prideticket.com/app/uploads/2020/01/starkbierfest2020_a2---2.jpg
END:VEVENT
BEGIN:VEVENT
DTSTART;TZID=Europe/Vienna:20200311T200000
DTEND;TZID=Europe/Vienna:20200312T010000
DTSTAMP:20260421T162840
CREATED:20200225T112042Z
LAST-MODIFIED:20200225T112042Z
UID:11045-1583956800-1583974800@www.prideticket.com
SUMMARY:Naked Bar
DESCRIPTION:EVERY WEDNESDAY\nNaked Bar\nNude dudes with no attitude \nEvery wednesday night\, every butt is naked.\nCome for a drink with some kink.\nExpect full frontal nudity & plenty of indecent exposures! \nDress code: shoes only\, clothes can be left at coat check \n
URL:https://www.prideticket.com/e/naked-bar-3/
CATEGORIES:Fun,Men Only,Tanz
ATTACH;FMTTYPE=image/jpeg:https://www.prideticket.com/app/uploads/2020/02/81652880_2752234614814858_3469493312061177856_o.jpg
END:VEVENT
BEGIN:VEVENT
DTSTART;VALUE=DATE:20200312
DTEND;VALUE=DATE:20200325
DTSTAMP:20260421T162840
CREATED:20200102T153235Z
LAST-MODIFIED:20200102T153235Z
UID:7434-1583971200-1585094399@www.prideticket.com
SUMMARY:The Maspalomas Carnival
DESCRIPTION:The Maspalomas Carnival is an annual\, taking place at the infamous Yumbo Center. \nIt’s mixed\, but due to the dominant gay crowds\, as Yumbo is the Gay Centre of Gran Canaria\, it has a firm pink element to it. All the gay bars and clubs host special events. \nThe Carnival in Playa del Ingles is a very popular period to visit. Make sure to book a hotel near the Yumbo Center. There is all the action! \n
URL:https://www.prideticket.com/e/the-maspalomas-carnival/
CATEGORIES:Fun,LGBT
ATTACH;FMTTYPE=image/jpeg:https://www.prideticket.com/app/uploads/2020/01/46399544_1896838280399972_6872898759747960832_n-2.jpg
END:VEVENT
BEGIN:VEVENT
DTSTART;VALUE=DATE:20200312
DTEND;VALUE=DATE:20200323
DTSTAMP:20260421T162840
CREATED:20200116T112414Z
LAST-MODIFIED:20200116T112414Z
UID:8583-1583971200-1584921599@www.prideticket.com
SUMMARY:Roze Filmdagen – Pink Film Days 2020
DESCRIPTION:\n23rd AMSTERDAM LGBTQ FILM FESTIVAL\n\n\nRoze Filmdagen (meaning ‘Pink Film Days’) is the largest film festival for LGBTQ films in the Netherlands.\n\n\nThe wide and varied selection of films includes romantic comedies\, provoking documentaries and everything in between. The variety in films reflects the diversity of the community. Besides several focus programmes we proudly showcase numerous short films that are (just like our feature and documentary films) sparkling\, provocative\, urgent\, and engaging. \nJoin our cinematic cultural community experience that goes on for eleven days and meet and mingle with filmmakers and visitors who celebrate all aspects of sexual diversity. \nBut above all enjoy one of the 140+ films we selected for you and hopefully you’ll be coming back for more. \nVirtually all screenings are in English\, or have English subtitles. There are a few exceptions but the listings in the mostly bilingual printed program\, or on our website\, will inform you about this.Enjoy the festival! \n\n\n
URL:https://www.prideticket.com/e/roze-filmdagen-pink-film-days-2020/
CATEGORIES:Festival,Film,LGBT
ATTACH;FMTTYPE=image/png:https://www.prideticket.com/app/uploads/2020/01/12.03.2020-22.03.2020.png
END:VEVENT
BEGIN:VEVENT
DTSTART;TZID=Europe/Vienna:20200312T170000
DTEND;TZID=Europe/Vienna:20200315T150000
DTSTAMP:20260421T162840
CREATED:20191025T142006Z
LAST-MODIFIED:20191025T142006Z
UID:5846-1584032400-1584284400@www.prideticket.com
SUMMARY:Skeive ski - Scandinavian Ski Pride 2020
DESCRIPTION:SKEIVE SKI 2020\nFyri Resort Hemsedal : 12. – 15. Mars\nVi gleder oss til å se deg 🏳‍🌈 \n
URL:https://www.prideticket.com/e/skeive-ski-scandinavian-ski-pride-2020/
CATEGORIES:Winter Sport
ATTACH;FMTTYPE=image/png:https://www.prideticket.com/app/uploads/2019/10/52344300_10156331258823897_8209277447351304192_n.png
END:VEVENT
END:VCALENDAR